BEGIN:VCALENDAR
VERSION:2.0
PRODID:-//Fondazione Villa Bertelli - Forte dei Marmi - ECPv6.2.3.2//NONSGML v1.0//EN
CALSCALE:GREGORIAN
METHOD:PUBLISH
X-WR-CALNAME:Fondazione Villa Bertelli - Forte dei Marmi
X-ORIGINAL-URL:https://www.villabertelli.it
X-WR-CALDESC:Eventi per Fondazione Villa Bertelli - Forte dei Marmi
REFRESH-INTERVAL;VALUE=DURATION:PT1H
X-Robots-Tag:noindex
X-PUBLISHED-TTL:PT1H
BEGIN:VTIMEZONE
TZID:UTC
BEGIN:STANDARD
TZOFFSETFROM:+0000
TZOFFSETTO:+0000
TZNAME:UTC
DTSTART:20250101T000000
END:STANDARD
END:VTIMEZONE
BEGIN:VEVENT
DTSTART;TZID=UTC:20250323T170000
DTEND;TZID=UTC:20250323T170000
DTSTAMP:20260422T200842
CREATED:20250301T113129Z
LAST-MODIFIED:20250301T113129Z
UID:12871-1742749200-1742749200@www.villabertelli.it
SUMMARY:Tommaso Ridolfi in concerto
DESCRIPTION:Tommaso Ridolfi in concerto\nConcerto per pianoforte\nA cura dell’Associazione “Clara Wieck Schumann”\nNuovo appuntamento con la musica classica dell’associazione musicale Clara Wieck Schumann che presenta il concerto per pianoforte con il M° Tommaso Ridolfi. Direzione artistica di Sena Fini. \nRidolfi\, nato nel 1995\, studia pianoforte dall’età di 8 anni e a 12 ha iniziato a frequentare il conservatorio di musica G. Rossini dove si è diplomato in Pianoforte e Musica da Camera con il massimo dei voti e lode sotto la guida del maestro Andrea Turini. Finalista menzionato con merito del Premio Nazionale delle Arti 2022 nella sezione musica da camera in duo con Lorenzo Felicioni. Vincitore assoluto in diversi concorsi internazionali sia come solista che in formazione cameristica\, è stato riconosciuto e premiato per le capacità dimostrate nel repertorio Bachiano. Dal 2022 prende parte ai corsi internazionali tenuti dalla Tel-Hai International Masterclasses in Israele. Attualmente frequenta sotto la guida del maestro Marco Zuccarini il corso di musica da camera presso l’accademia pianistica di Imola in duo pianistico con Lorenzo Felicioni. \nIngresso a pagamento 10 euro. Ridotto 5 euro per minori anni 18 studenti Università\, Conservatorio e Accademia. \n Prenotazione obbligatoria 338 6755186 / 0584 787251 (Villa Bertelli)
URL:https://www.villabertelli.it/evento/tommaso-ridolfi-in-concerto/
LOCATION:Villa Bertelli\, Via Giuseppe Mazzini 200\, Forte dei Marmi\, Italia
CATEGORIES:Banner Home,Calendario Eventi 2025
ATTACH;FMTTYPE=image/png:https://www.villabertelli.it/wp-content/uploads/2025/03/Sena-fini-23.03.25.png
GEO:43.96864;10.158005
X-APPLE-STRUCTURED-LOCATION;VALUE=URI;X-ADDRESS=Villa Bertelli Via Giuseppe Mazzini 200 Forte dei Marmi Italia;X-APPLE-RADIUS=500;X-TITLE=Via Giuseppe Mazzini 200:geo:10.158005,43.96864
END:VEVENT
END:VCALENDAR