BEGIN:VCALENDAR
VERSION:2.0
PRODID:-//Fondazione Villa Bertelli - Forte dei Marmi - ECPv6.2.3.2//NONSGML v1.0//EN
CALSCALE:GREGORIAN
METHOD:PUBLISH
X-WR-CALNAME:Fondazione Villa Bertelli - Forte dei Marmi
X-ORIGINAL-URL:https://www.villabertelli.it
X-WR-CALDESC:Eventi per Fondazione Villa Bertelli - Forte dei Marmi
REFRESH-INTERVAL;VALUE=DURATION:PT1H
X-Robots-Tag:noindex
X-PUBLISHED-TTL:PT1H
BEGIN:VTIMEZONE
TZID:UTC
BEGIN:STANDARD
TZOFFSETFROM:+0000
TZOFFSETTO:+0000
TZNAME:UTC
DTSTART:20240101T000000
END:STANDARD
END:VTIMEZONE
BEGIN:VEVENT
DTSTART;TZID=UTC:20241123T170000
DTEND;TZID=UTC:20241123T170000
DTSTAMP:20260421T231747
CREATED:20241022T142607Z
LAST-MODIFIED:20241022T142607Z
UID:12490-1732381200-1732381200@www.villabertelli.it
SUMMARY:Settembre 1943 - L'eccidio di Cefalonia. La resistenza negata
DESCRIPTION:Settembre 1943 – L’eccidio di Cefalonia. La resistenza negata\nPresentazione del libro di Elena Pala\nElena Pala docente di storia contemporanea e collaboratrice dell’Università degli Studi di Milano\, racconta la storia della divisione Acqui subito dopo l’armistizio dell’8 settembre 1943\, quando\, di stanza nell’isola di Cefalonia nel mar Ionio\, rifiutò di cedere le armi ai tedeschi. Fu l’inizio di una disperata battaglia dall’esito già segnato. Le truppe tedesche\, grazie ai rinforzi giunti dall’entroterra e soprattutto grazie all’appoggio aereo\, ebbero la meglio sui soldati italiani dopo circa una settimana di combattimenti. Per ordine diretto di Hitler\, i tedeschi non facevano prigionieri: vennero massacrati e gettati nelle fosse comuni circa 5.000 uomini. I pochi superstiti furono portati nei campi di prigionia in Germania. \nIngresso libero Prenotazione 0584 787251.
URL:https://www.villabertelli.it/evento/settembre-1943-leccidio-di-cefalonia-la-resistenza-negata/
LOCATION:Villa Bertelli\, Via Giuseppe Mazzini 200\, Forte dei Marmi\, Italia
CATEGORIES:Banner Home,Calendario Eventi 2024
ATTACH;FMTTYPE=image/jpeg:https://www.villabertelli.it/wp-content/uploads/2024/10/cefalonia-.jpg
GEO:43.96864;10.158005
X-APPLE-STRUCTURED-LOCATION;VALUE=URI;X-ADDRESS=Villa Bertelli Via Giuseppe Mazzini 200 Forte dei Marmi Italia;X-APPLE-RADIUS=500;X-TITLE=Via Giuseppe Mazzini 200:geo:10.158005,43.96864
END:VEVENT
END:VCALENDAR