BEGIN:VCALENDAR
VERSION:2.0
PRODID:-//Fondazione Villa Bertelli - Forte dei Marmi - ECPv6.2.3.2//NONSGML v1.0//EN
CALSCALE:GREGORIAN
METHOD:PUBLISH
X-WR-CALNAME:Fondazione Villa Bertelli - Forte dei Marmi
X-ORIGINAL-URL:https://www.villabertelli.it
X-WR-CALDESC:Eventi per Fondazione Villa Bertelli - Forte dei Marmi
REFRESH-INTERVAL;VALUE=DURATION:PT1H
X-Robots-Tag:noindex
X-PUBLISHED-TTL:PT1H
BEGIN:VTIMEZONE
TZID:UTC
BEGIN:STANDARD
TZOFFSETFROM:+0000
TZOFFSETTO:+0000
TZNAME:UTC
DTSTART:20230101T000000
END:STANDARD
END:VTIMEZONE
BEGIN:VEVENT
DTSTART;TZID=UTC:20230918T173000
DTEND;TZID=UTC:20230918T190000
DTSTAMP:20260422T035929
CREATED:20230915T111203Z
LAST-MODIFIED:20230915T111203Z
UID:10572-1695058200-1695063600@www.villabertelli.it
SUMMARY:RAFFAELE PISU\, Mattatori brava gente
DESCRIPTION:RAFFAELE PISU\nMattatori brava gente\n  \nL’autore del libro Andrea Maioli presenta il suo libro insieme a Paolo Rossi\, figlio naturale di Pisu. \nMaioli\, giornalista\, critico cinematografico e autore teatrale\, racconta in questo libro la storia di Raffaele Pisu\, un lungo viaggio dove la vita e l’arte si mischiano in maniera indissolubile. \nTra avventure artistiche\, successi\, cadute e famiglie allargate con inevitabili colpi di scena\, questo libro avvincente catturerà la curiosità di molti ascoltatori. \nAd intervistare il giornalista Enrico Salvadori.
URL:https://www.villabertelli.it/evento/raffaele-pisu-mattatori-brava-gente/
LOCATION:Villa Bertelli\, Via Giuseppe Mazzini 200\, Forte dei Marmi\, Italia
CATEGORIES:Banner Home
ATTACH;FMTTYPE=image/jpeg:https://www.villabertelli.it/wp-content/uploads/2023/09/1981.jpg
GEO:43.96864;10.158005
X-APPLE-STRUCTURED-LOCATION;VALUE=URI;X-ADDRESS=Villa Bertelli Via Giuseppe Mazzini 200 Forte dei Marmi Italia;X-APPLE-RADIUS=500;X-TITLE=Via Giuseppe Mazzini 200:geo:10.158005,43.96864
END:VEVENT
END:VCALENDAR