BEGIN:VCALENDAR
VERSION:2.0
PRODID:-//Fondazione Villa Bertelli - Forte dei Marmi - ECPv6.2.3.2//NONSGML v1.0//EN
CALSCALE:GREGORIAN
METHOD:PUBLISH
X-WR-CALNAME:Fondazione Villa Bertelli - Forte dei Marmi
X-ORIGINAL-URL:https://www.villabertelli.it
X-WR-CALDESC:Eventi per Fondazione Villa Bertelli - Forte dei Marmi
REFRESH-INTERVAL;VALUE=DURATION:PT1H
X-Robots-Tag:noindex
X-PUBLISHED-TTL:PT1H
BEGIN:VTIMEZONE
TZID:UTC
BEGIN:STANDARD
TZOFFSETFROM:+0000
TZOFFSETTO:+0000
TZNAME:UTC
DTSTART:20260101T000000
END:STANDARD
END:VTIMEZONE
BEGIN:VEVENT
DTSTART;TZID=UTC:20260510T173000
DTEND;TZID=UTC:20260510T173000
DTSTAMP:20260422T012134
CREATED:20260421T133446Z
LAST-MODIFIED:20260421T133446Z
UID:14379-1778434200-1778434200@www.villabertelli.it
SUMMARY:Questo fervido amore
DESCRIPTION:Questo fervido amore\nConcerto lirico\nIl concerto propone grandi pagine del melodramma italiano romantico da Bellini in poi\, con particolare attenzione al capolavoro verdiano “La Forza del Destino”. \nA dar voce a questi brani saranno il soprano Gianna Queni\, il tenore Vladimir Reutov e il celebre basso Giorgio Giuseppini. Al pianoforte il Maestro Cesare Goretta. \nEvento a pagamento 10 euro. Prenotazione obbligatoria 0584 787251
URL:https://www.villabertelli.it/evento/questo-fervido-amore/
LOCATION:Villa Bertelli\, Via Giuseppe Mazzini 200\, Forte dei Marmi\, Italia
CATEGORIES:Banner Home,Calendario Eventi 2026
ATTACH;FMTTYPE=image/png:https://www.villabertelli.it/wp-content/uploads/2026/04/fervido-amore-evid.png
GEO:43.96864;10.158005
X-APPLE-STRUCTURED-LOCATION;VALUE=URI;X-ADDRESS=Villa Bertelli Via Giuseppe Mazzini 200 Forte dei Marmi Italia;X-APPLE-RADIUS=500;X-TITLE=Via Giuseppe Mazzini 200:geo:10.158005,43.96864
END:VEVENT
END:VCALENDAR