BEGIN:VCALENDAR
VERSION:2.0
PRODID:-//Fondazione Villa Bertelli - Forte dei Marmi - ECPv6.2.3.2//NONSGML v1.0//EN
CALSCALE:GREGORIAN
METHOD:PUBLISH
X-WR-CALNAME:Fondazione Villa Bertelli - Forte dei Marmi
X-ORIGINAL-URL:https://www.villabertelli.it
X-WR-CALDESC:Eventi per Fondazione Villa Bertelli - Forte dei Marmi
REFRESH-INTERVAL;VALUE=DURATION:PT1H
X-Robots-Tag:noindex
X-PUBLISHED-TTL:PT1H
BEGIN:VTIMEZONE
TZID:UTC
BEGIN:STANDARD
TZOFFSETFROM:+0000
TZOFFSETTO:+0000
TZNAME:UTC
DTSTART:20240101T000000
END:STANDARD
END:VTIMEZONE
BEGIN:VEVENT
DTSTART;TZID=UTC:20241122T210000
DTEND;TZID=UTC:20241122T210000
DTSTAMP:20260421T231411
CREATED:20241029T170333Z
LAST-MODIFIED:20241029T170612Z
UID:12502-1732309200-1732309200@www.villabertelli.it
SUMMARY:Puccini tra pop e swing
DESCRIPTION:Puccini tra pop e swing\nIl pianista compositore Massimo Barsotti ha elaborato alcune delle romanze più famose scritte dal compositore lucchese Giacomo Puccini e tratte dalle sue opere più celebri: “Bohème”\, “Tosca”\, “Gianni Schicchi”\, “Madama Butterfly” e “Turandot”. Le elaborazioni\, tutte originali per flauto\, pianoforte e sassofono\, propongono l’idea del tema melodico mantenendo inizialmente l’atmosfera originale\, sviluppandosi nella parte centrale del brano e riproponendo le idee pucciniane nelle diverse forme\, che vanno dal soul al jazz\, dal pop allo swing\, alla bossa-nova con arrangiamenti del tutto originali e inusuali. \nIn un susseguirsi di contaminazioni\, i temi pucciniani vengono sottoposti quindi ad un linguaggio trasversale ed universale con un impatto molto forte e carismatico sul pubblico\, come peraltro solo le struggenti melodie del compositore toscano possono fare. Tutto ciò fa delle elaborazioni di Barsotti\, sostenute dal suo brillante pianismo e dal virtuosismo del sassofonista Giovanni Baglioni e del flautista Luca Magni\, una versione unica ed originale che\, partendo dalle bellissime intuizioni melodiche di Puccini\, si espandono creando una propria struttura autonoma con creazioni musicali originali per il grande piacere e godimento del pubblico. \nIngresso a pagamento €10.  \nPosti limitati! Prenotazione necessaria allo 0584 787251.
URL:https://www.villabertelli.it/evento/puccini-tra-pop-e-swing/
LOCATION:Villa Bertelli\, Via Giuseppe Mazzini 200\, Forte dei Marmi\, Italia
CATEGORIES:Banner Home,Calendario Eventi 2024
ATTACH;FMTTYPE=image/jpeg:https://www.villabertelli.it/wp-content/uploads/2024/10/Puccini-tra-pop-e-swing.jpg
GEO:43.96864;10.158005
X-APPLE-STRUCTURED-LOCATION;VALUE=URI;X-ADDRESS=Villa Bertelli Via Giuseppe Mazzini 200 Forte dei Marmi Italia;X-APPLE-RADIUS=500;X-TITLE=Via Giuseppe Mazzini 200:geo:10.158005,43.96864
END:VEVENT
END:VCALENDAR