BEGIN:VCALENDAR
VERSION:2.0
PRODID:-//Fondazione Villa Bertelli - Forte dei Marmi - ECPv6.2.3.2//NONSGML v1.0//EN
CALSCALE:GREGORIAN
METHOD:PUBLISH
X-WR-CALNAME:Fondazione Villa Bertelli - Forte dei Marmi
X-ORIGINAL-URL:https://www.villabertelli.it
X-WR-CALDESC:Eventi per Fondazione Villa Bertelli - Forte dei Marmi
REFRESH-INTERVAL;VALUE=DURATION:PT1H
X-Robots-Tag:noindex
X-PUBLISHED-TTL:PT1H
BEGIN:VTIMEZONE
TZID:UTC
BEGIN:STANDARD
TZOFFSETFROM:+0000
TZOFFSETTO:+0000
TZNAME:UTC
DTSTART:20240101T000000
END:STANDARD
END:VTIMEZONE
BEGIN:VEVENT
DTSTART;TZID=UTC:20241013T170000
DTEND;TZID=UTC:20241013T180000
DTSTAMP:20260422T214921
CREATED:20240928T135559Z
LAST-MODIFIED:20241012T192143Z
UID:12377-1728838800-1728842400@www.villabertelli.it
SUMMARY:Processo a Castruccio Castracani. Le donne accusano il duce di Lucca
DESCRIPTION:Processo a Castruccio Castracani. Le donne accusano il duce di Lucca\nRappresentazione in costume a cura di Daniele Zucconi\nDialoghi tratti dal romanzo L’ombra della pantera di Daniele Zucconi. L’autore presenta un inquadramento storico prima della rappresentazione\, che si svolge in costumi d’epoca. \nInterpreti: \n\nPina degli Streghi Francesca Stefanelli\,\nDonna Irene Sabina De Ranieri\nCastruccio Massimo Canneti\nIl Giudice Pier Paolo Caffaratti\nNarratrice Alessandra Buffoni\nArmigeri e dame della Contrada San Paolino\n\nIngresso libero. Prenotazione 0584 787251
URL:https://www.villabertelli.it/evento/processo-a-castruccio-castracani-le-donne-accusano-il-duce-di-lucca-2/
LOCATION:Villa Bertelli\, Via Giuseppe Mazzini 200\, Forte dei Marmi\, Italia
CATEGORIES:Banner Home,Calendario Eventi 2024
ATTACH;FMTTYPE=image/jpeg:https://www.villabertelli.it/wp-content/uploads/2024/09/daniele-zucconi-ottobre_.jpg
GEO:43.96864;10.158005
X-APPLE-STRUCTURED-LOCATION;VALUE=URI;X-ADDRESS=Villa Bertelli Via Giuseppe Mazzini 200 Forte dei Marmi Italia;X-APPLE-RADIUS=500;X-TITLE=Via Giuseppe Mazzini 200:geo:10.158005,43.96864
END:VEVENT
END:VCALENDAR