BEGIN:VCALENDAR
VERSION:2.0
PRODID:-//Fondazione Villa Bertelli - Forte dei Marmi - ECPv6.2.3.2//NONSGML v1.0//EN
CALSCALE:GREGORIAN
METHOD:PUBLISH
X-WR-CALNAME:Fondazione Villa Bertelli - Forte dei Marmi
X-ORIGINAL-URL:https://www.villabertelli.it
X-WR-CALDESC:Eventi per Fondazione Villa Bertelli - Forte dei Marmi
REFRESH-INTERVAL;VALUE=DURATION:PT1H
X-Robots-Tag:noindex
X-PUBLISHED-TTL:PT1H
BEGIN:VTIMEZONE
TZID:UTC
BEGIN:STANDARD
TZOFFSETFROM:+0000
TZOFFSETTO:+0000
TZNAME:UTC
DTSTART:20190101T000000
END:STANDARD
END:VTIMEZONE
BEGIN:VEVENT
DTSTART;TZID=UTC:20191223T160000
DTEND;TZID=UTC:20191223T190000
DTSTAMP:20260421T031553
CREATED:20191223T162950Z
LAST-MODIFIED:20200102T085547Z
UID:6931-1577116800-1577127600@www.villabertelli.it
SUMMARY:Mostra "Burri Morandi e altri amici"
DESCRIPTION:La mostra “Burri Morandi e altri amici. La passione per l’arte di Leone Piccioni” nasce da una collezione importante e inedita\, con esposte 109 opere del grande critico letterario scomparso lo scorso anno\, uscita per la prima volta dalle mura di Casa Piccioni. Dunque\, opere di e per Leone\, scelte con cura fra gli artisti amati e da essi a lui dedicate. Non solo quadri e sculture\, ma la mostra prevede un omaggio audio-visivo alla memoria di Leone Piccioni con alcune sue interviste. \nElenco artisti: Afro\, Remo Bianco\, Alberto Burri\, Alexander Calder\, Giuseppe Capogrossi\, Carlo Carrà\, Mario Ceroli\, Folco Chiti Battelli\, Filippo De Pisis\, Piero Dorazio\, Jean Fautrier\, Lucio Fontana\, Remo Formichi\, Giosetta Fioroni\, Franco Gentilini\, George Grosz\, Renato Guttuso\, Carlo Guarienti\, Mino Maccari\, Mario Mafai\, Giacomo Manzù\, Mario Marcucci\, Giorgio Morandi\, Ennio Morlotti\, Victor Pasmore\, Ottone Rosai\, Piero Sbarluzzi\, Gino Severini\, Mario Schifano\, Gregorio Sciltian\, Luigi Spazzapan\, Graham V. Sutherland\, Venturino Venturi\, Lorenzo Viani\, Franco Villoresi. \nPatrocini: Un evento promosso dalla Fondazione Villa Bertelli\, con il patrocinio di Regione Toscana\, Provincia di Lucca\, Comune di Forte dei Marmi\, Comune di Pistoia\, Comune di Pienza\, Premio Letterario Internazionale Ceppo Pistoia. \nPartnership: Teche Rai \n Official Carrier: Trenitalia. \nSponsor: Caffè Principe Forte dei Marmi \nPartner: Fonderia Del Chiaro Pietrasanta e la Collaborazione dell’Associazione Amici di Leone Piccioni. \nLa mostra rimarrà in esposizione dal 15 giugno 2019 al 1 marzo 2020 al seguente orario: \nDa settembre a marzo – sabato e domenica 16.00 -19.00\, durante la settimana è possibile visitarla contattando la segreteria di Villa Bertelli allo 0584 787251 \nIngresso a pagamento: \nBiglietto intero       € 8\,00 \nRidotto Over 65     € 5\,00 \nPer i ragazzi fino ai 18 anni è previsto l’ingresso gratuito. Convenzione per possessori di titoli di viaggio regionale Trenitalia* € 5\,00 \nOFFICIAL CARRIER: TRENITALIA con le seguenti agevolazioni: \n * –        abbonamento annuale regionale Trenitalia a tariffa 40/17/A (annuale) o con applicazione sovraregionale in vigore e valido; \n–           abbonamento mensile regionale Trenitalia a tariffa 40/17/B (mensile) o con applicazione sovraregionale in vigore e valido; \n–           abbonamento settimanale regionale Trenitalia a tariffa 40/17/C (settimanale) o con applicazione sovraregionale in vigore e valido; \n–           biglietto di corsa semplice regionale Trenitalia a tariffa 39/17 o con applicazione sovraregionale utilizzato e convalidato per raggiungere Forte dei Marmi nel periodo dell’evento. \n                    
URL:https://www.villabertelli.it/evento/mostra-burri-morandi-altri-amici-2/2019-12-23/
LOCATION:Villa Bertelli\, Via Giuseppe Mazzini 200\, Forte dei Marmi\, Italia
CATEGORIES:Banner Home,Calendario Eventi 2019,Calendario Eventi 2020,Quadrato Home
ATTACH;FMTTYPE=image/jpeg:https://www.villabertelli.it/wp-content/uploads/2019/06/mostra-proroga-evidenza.jpeg
GEO:43.96864;10.158005
X-APPLE-STRUCTURED-LOCATION;VALUE=URI;X-ADDRESS=Villa Bertelli Via Giuseppe Mazzini 200 Forte dei Marmi Italia;X-APPLE-RADIUS=500;X-TITLE=Via Giuseppe Mazzini 200:geo:10.158005,43.96864
END:VEVENT
END:VCALENDAR