BEGIN:VCALENDAR
VERSION:2.0
PRODID:-//Fondazione Villa Bertelli - Forte dei Marmi - ECPv6.2.3.2//NONSGML v1.0//EN
CALSCALE:GREGORIAN
METHOD:PUBLISH
X-WR-CALNAME:Fondazione Villa Bertelli - Forte dei Marmi
X-ORIGINAL-URL:https://www.villabertelli.it
X-WR-CALDESC:Eventi per Fondazione Villa Bertelli - Forte dei Marmi
REFRESH-INTERVAL;VALUE=DURATION:PT1H
X-Robots-Tag:noindex
X-PUBLISHED-TTL:PT1H
BEGIN:VTIMEZONE
TZID:UTC
BEGIN:STANDARD
TZOFFSETFROM:+0000
TZOFFSETTO:+0000
TZNAME:UTC
DTSTART:20230101T000000
END:STANDARD
END:VTIMEZONE
BEGIN:VEVENT
DTSTART;TZID=UTC:20230526T210000
DTEND;TZID=UTC:20230526T223000
DTSTAMP:20260419T194830
CREATED:20230306T174311Z
LAST-MODIFIED:20230505T170932Z
UID:9542-1685134800-1685140200@www.villabertelli.it
SUMMARY:Maria Callas Anima e Corpo
DESCRIPTION:Maria Callas\nAnima e Corpo\nMaria Callas Anima e Corpo con Silvia D’Amico è un docufilm che fa parte della serie “Illuminate”\, dedicata alle biografie di grandi donne italiane del Novecento. \nL’evento prevede al termine della proiezione\, un incontro con il regista Matteo Raffaelli\, moderato dalla giornalista Maria Tucci\, a cui seguirà un concerto con il soprano Gianna Queni\, accompagnata al pianoforte dal Maestro Cesare Goretta.  \nIl docufilm\, uno dei format biopic di maggior successo della Rai\, prodotto da Anele in collaborazione con Rai Cultura\, è andato in onda su Rai3 ed è disponibile su RaiPlay.  \nMaria Callas Anima e corpo è narrato da una straordinaria Silvia D’Amico che mette in scena un monologo teatrale ispirato a Maria Callas.  \nSilvia D’Amico esplora l’animo della grande artista\, ripercorrendone il vissuto e la continua lotta fra le sue due anime: la donna e la diva\, la trasformazione artistica e fisica\, il costante lavoro su sé stessa per far convivere il “corpo pubblico” dell’artista con il “corpo privato” della persona\, rivoluzionando al tempo stesso il mondo della lirica. \nLa serie\, alla quinta stagione\, ha dedicato a Maria Callas una puntata per ricordare il centenario della nascita e Villa Bertelli insieme al Comune di Forte dei Marmi\, in collaborazione con la Produzione Anele\, ha voluto prendere parte alla celebrazione per rendere omaggio a un’indimenticabile interprete\, assoluta protagonista del secolo scorso nei più grandi teatri del mondo. \nL’evento si terrà in Sala Ferrario\, posti limitati necessaria prenotazione allo 0584 787251 \n 
URL:https://www.villabertelli.it/evento/maria-callas-anima-e-corpo/
LOCATION:Villa Bertelli\, Via Giuseppe Mazzini 200\, Forte dei Marmi\, Italia
CATEGORIES:Banner Home,Calendario Eventi 2023
ATTACH;FMTTYPE=image/jpeg:https://www.villabertelli.it/wp-content/uploads/2023/03/maria-callas-.jpeg
GEO:43.96864;10.158005
X-APPLE-STRUCTURED-LOCATION;VALUE=URI;X-ADDRESS=Villa Bertelli Via Giuseppe Mazzini 200 Forte dei Marmi Italia;X-APPLE-RADIUS=500;X-TITLE=Via Giuseppe Mazzini 200:geo:10.158005,43.96864
END:VEVENT
END:VCALENDAR