BEGIN:VCALENDAR
VERSION:2.0
PRODID:-//Fondazione Villa Bertelli - Forte dei Marmi - ECPv6.2.3.2//NONSGML v1.0//EN
CALSCALE:GREGORIAN
METHOD:PUBLISH
X-WR-CALNAME:Fondazione Villa Bertelli - Forte dei Marmi
X-ORIGINAL-URL:https://www.villabertelli.it
X-WR-CALDESC:Eventi per Fondazione Villa Bertelli - Forte dei Marmi
REFRESH-INTERVAL;VALUE=DURATION:PT1H
X-Robots-Tag:noindex
X-PUBLISHED-TTL:PT1H
BEGIN:VTIMEZONE
TZID:UTC
BEGIN:STANDARD
TZOFFSETFROM:+0000
TZOFFSETTO:+0000
TZNAME:UTC
DTSTART:20230101T000000
END:STANDARD
END:VTIMEZONE
BEGIN:VEVENT
DTSTART;TZID=UTC:20230513T180000
DTEND;TZID=UTC:20230513T193000
DTSTAMP:20260419T225724
CREATED:20230509T152324Z
LAST-MODIFIED:20230509T152324Z
UID:9988-1684000800-1684006200@www.villabertelli.it
SUMMARY:Lunaria
DESCRIPTION:Lunaria\nPresentazione del CD\n  \nLunaria – Al via la rassegna di “Voci notturne”\, il ciclo di presentazioni firmato dalla milanese Operitage e realizzato in collaborazione con la Fondazione Villa Bertelli; a inaugurare il ciclo sarà la presentazione del CD Lunaria di Elisa Balbo e Michele D’Elia\, edito dall’etichetta Illiria Productions\, una galleria delicata e poetica dei ritratti della luna in musica\, da Bellini fino alla contemporanea\, abbracciando quasi 200 anni di musica.  \nUn appuntamento di grande impatto emozionale\, a ritroso nel tempo\, che trasporterà gli spettatori nei percorsi musicali dedicati al soggetto preferito nella letteratura romantica di artisti\, scrittori e musicisti. \nL’incontro\, così come gli altri due in programma\, sarà l’occasione per parlare di musica in modi diversi\, dalla saggistica all’esecuzione\, passando per la narrativa\, oltre che dei suoi interpreti\, degli autori e dei contesti nei quali  hanno vissuto\, fornendo una panoramica culturale a 360 gradi. Non solo un momento di divulgazione\, quindi\, ma di condivisione con il pubblico. \n  \nProssimi incontri\nA questo primo rendez-vous\, seguiranno\, domenica 2 luglio alle 18.00\, Francesco Pasqualetti\, che in conversazione con il critico musicale Fabrizio Moschini\, presenterà il suo romanzo La regina della notte\, edito da Rizzoli\, un avvincente giallo storico\, che coinvolge tra gli altri Caterina di Russia\, Mozart e Pietro Leopoldo di Toscana. \nA Giorgio Appolonia è dedicato l’incontro conclusivo\, domenica 30 luglio\, sempre alle 18.00\, in cui ci si concentrerà sul recente Il soprano rossiniano\,   edito da Lemma Press\, ma si parlerà anche dei tre “fratelli maggiori”: Il contralto rossiniano\, Il tenore rossiniano e Il basso rossiniano. Nel corso della presentazione ci saranno interventi musicali del soprano Viviana Nebuloni accompagnata al pianoforte dal Maestro Luca Fialdini. \nIngresso libero\, Sala Ferrario – posti limitati.  Prenotazioni allo 0584 787251
URL:https://www.villabertelli.it/evento/lunaria/
LOCATION:Villa Bertelli\, Via Giuseppe Mazzini 200\, Forte dei Marmi\, Italia
CATEGORIES:Banner Home,Calendario Eventi 2023
GEO:43.96864;10.158005
X-APPLE-STRUCTURED-LOCATION;VALUE=URI;X-ADDRESS=Villa Bertelli Via Giuseppe Mazzini 200 Forte dei Marmi Italia;X-APPLE-RADIUS=500;X-TITLE=Via Giuseppe Mazzini 200:geo:10.158005,43.96864
END:VEVENT
END:VCALENDAR