BEGIN:VCALENDAR
VERSION:2.0
PRODID:-//Fondazione Villa Bertelli - Forte dei Marmi - ECPv6.2.3.2//NONSGML v1.0//EN
CALSCALE:GREGORIAN
METHOD:PUBLISH
X-WR-CALNAME:Fondazione Villa Bertelli - Forte dei Marmi
X-ORIGINAL-URL:https://www.villabertelli.it
X-WR-CALDESC:Eventi per Fondazione Villa Bertelli - Forte dei Marmi
REFRESH-INTERVAL;VALUE=DURATION:PT1H
X-Robots-Tag:noindex
X-PUBLISHED-TTL:PT1H
BEGIN:VTIMEZONE
TZID:UTC
BEGIN:STANDARD
TZOFFSETFROM:+0000
TZOFFSETTO:+0000
TZNAME:UTC
DTSTART:20230101T000000
END:STANDARD
END:VTIMEZONE
BEGIN:VEVENT
DTSTART;TZID=UTC:20230508T180000
DTEND;TZID=UTC:20230508T190000
DTSTAMP:20260420T023413
CREATED:20230505T170643Z
LAST-MODIFIED:20230505T170643Z
UID:9977-1683568800-1683572400@www.villabertelli.it
SUMMARY:La resistenza civile. Storie dimenticate della lotta di liberazione
DESCRIPTION:La resistenza civile\nStorie dimenticate della lotta di liberazione\nLa resistenza civile. Storie dimenticate della lotta di liberazione – Incontro promosso dall’ANPI\, sezione Gino Lombardi Viareggio\, in occasione del 78° anniversario della Liberazione 25 aprile. \nRelatore Jonathan Pieri\, direttore ISREC di Lucca \nIngresso libero. Prenotazione 0584 787251
URL:https://www.villabertelli.it/evento/la-resistenza-civile-storie-dimenticate-della-lotta-di-liberazione/
LOCATION:Villa Bertelli\, Via Giuseppe Mazzini 200\, Forte dei Marmi\, Italia
CATEGORIES:Banner Home,Calendario Eventi 2023
GEO:43.96864;10.158005
X-APPLE-STRUCTURED-LOCATION;VALUE=URI;X-ADDRESS=Villa Bertelli Via Giuseppe Mazzini 200 Forte dei Marmi Italia;X-APPLE-RADIUS=500;X-TITLE=Via Giuseppe Mazzini 200:geo:10.158005,43.96864
END:VEVENT
END:VCALENDAR