BEGIN:VCALENDAR
VERSION:2.0
PRODID:-//Fondazione Villa Bertelli - Forte dei Marmi - ECPv6.2.3.2//NONSGML v1.0//EN
CALSCALE:GREGORIAN
METHOD:PUBLISH
X-WR-CALNAME:Fondazione Villa Bertelli - Forte dei Marmi
X-ORIGINAL-URL:https://www.villabertelli.it
X-WR-CALDESC:Eventi per Fondazione Villa Bertelli - Forte dei Marmi
REFRESH-INTERVAL;VALUE=DURATION:PT1H
X-Robots-Tag:noindex
X-PUBLISHED-TTL:PT1H
BEGIN:VTIMEZONE
TZID:UTC
BEGIN:STANDARD
TZOFFSETFROM:+0000
TZOFFSETTO:+0000
TZNAME:UTC
DTSTART:20240101T000000
END:STANDARD
END:VTIMEZONE
BEGIN:VEVENT
DTSTART;TZID=UTC:20241119T170000
DTEND;TZID=UTC:20241119T170000
DTSTAMP:20260422T012232
CREATED:20241116T150551Z
LAST-MODIFIED:20241116T150551Z
UID:12530-1732035600-1732035600@www.villabertelli.it
SUMMARY:Invito al Giglio
DESCRIPTION:Invito al Giglio\nPresentazione della stagione lirica e dell’Opera Tosca\nA cura di Cataldo Russo\nSi apre con la presentazione dell’Opera Tosca (Libretto di Luigi Illica e Giuseppe Giacosa\, musica di Giacomo Puccini)\, il calendario degli appuntamenti di “Invito al Giglio” una serie di incontri sulla stagione lirica del teatro Il Giglio di Lucca\, promossi da Luca Fialdini\, pianista e compositore. Il primo ospite è il direttore del teatro Cataldo Russo. \nIngresso libero. Prenotazione 0584 787251.
URL:https://www.villabertelli.it/evento/invito-al-giglio/
LOCATION:Villa Bertelli\, Via Giuseppe Mazzini 200\, Forte dei Marmi\, Italia
CATEGORIES:Banner Home,Calendario Eventi 2024
ATTACH;FMTTYPE=image/jpeg:https://www.villabertelli.it/wp-content/uploads/2024/11/invito-al-giglio.jpg
GEO:43.96864;10.158005
X-APPLE-STRUCTURED-LOCATION;VALUE=URI;X-ADDRESS=Villa Bertelli Via Giuseppe Mazzini 200 Forte dei Marmi Italia;X-APPLE-RADIUS=500;X-TITLE=Via Giuseppe Mazzini 200:geo:10.158005,43.96864
END:VEVENT
END:VCALENDAR