BEGIN:VCALENDAR
VERSION:2.0
PRODID:-//Fondazione Villa Bertelli - Forte dei Marmi - ECPv6.2.3.2//NONSGML v1.0//EN
CALSCALE:GREGORIAN
METHOD:PUBLISH
X-WR-CALNAME:Fondazione Villa Bertelli - Forte dei Marmi
X-ORIGINAL-URL:https://www.villabertelli.it
X-WR-CALDESC:Eventi per Fondazione Villa Bertelli - Forte dei Marmi
REFRESH-INTERVAL;VALUE=DURATION:PT1H
X-Robots-Tag:noindex
X-PUBLISHED-TTL:PT1H
BEGIN:VTIMEZONE
TZID:UTC
BEGIN:STANDARD
TZOFFSETFROM:+0000
TZOFFSETTO:+0000
TZNAME:UTC
DTSTART:20260101T000000
END:STANDARD
END:VTIMEZONE
BEGIN:VEVENT
DTSTART;TZID=UTC:20260429T170000
DTEND;TZID=UTC:20260429T170000
DTSTAMP:20260419T121613
CREATED:20260419T093022Z
LAST-MODIFIED:20260419T093022Z
UID:14361-1777482000-1777482000@www.villabertelli.it
SUMMARY:Il pianoforte dal Romanticismo europeo alla musica popolare argentina
DESCRIPTION:Il pianoforte dal Romanticismo europeo alla musica popolare argentina\nConcerto per pianoforte con Elisa Germanò e Martina Pigoni\nConcerto per pianoforte con Elisa Germanò e Martina Pigoni. \nMusiche di Beethoven\, Balakirev\, Lisz\, Glinka\, Chopin\, Albeniz e Guastavino. \nEvento gratuito. Prenotazione obbligatoria posti limitati 0584 787251
URL:https://www.villabertelli.it/evento/il-pianoforte-dal-romanticismo-europeo-alla-musica-popolare-argentina/
LOCATION:Villa Bertelli\, Via Giuseppe Mazzini 200\, Forte dei Marmi\, Italia
CATEGORIES:Banner Home,Calendario Eventi 2026
ATTACH;FMTTYPE=image/png:https://www.villabertelli.it/wp-content/uploads/2026/04/germano-pigoni-evid.png
GEO:43.96864;10.158005
X-APPLE-STRUCTURED-LOCATION;VALUE=URI;X-ADDRESS=Villa Bertelli Via Giuseppe Mazzini 200 Forte dei Marmi Italia;X-APPLE-RADIUS=500;X-TITLE=Via Giuseppe Mazzini 200:geo:10.158005,43.96864
END:VEVENT
END:VCALENDAR