BEGIN:VCALENDAR
VERSION:2.0
PRODID:-//Fondazione Villa Bertelli - Forte dei Marmi - ECPv6.2.3.2//NONSGML v1.0//EN
CALSCALE:GREGORIAN
METHOD:PUBLISH
X-WR-CALNAME:Fondazione Villa Bertelli - Forte dei Marmi
X-ORIGINAL-URL:https://www.villabertelli.it
X-WR-CALDESC:Eventi per Fondazione Villa Bertelli - Forte dei Marmi
REFRESH-INTERVAL;VALUE=DURATION:PT1H
X-Robots-Tag:noindex
X-PUBLISHED-TTL:PT1H
BEGIN:VTIMEZONE
TZID:UTC
BEGIN:STANDARD
TZOFFSETFROM:+0000
TZOFFSETTO:+0000
TZNAME:UTC
DTSTART:20240101T000000
END:STANDARD
END:VTIMEZONE
BEGIN:VEVENT
DTSTART;TZID=UTC:20241130T170000
DTEND;TZID=UTC:20241130T170000
DTSTAMP:20260422T025223
CREATED:20241029T145324Z
LAST-MODIFIED:20241029T171030Z
UID:12496-1732986000-1732986000@www.villabertelli.it
SUMMARY:Il coraggio di un sorriso
DESCRIPTION:Il coraggio di un sorriso\nPresentazione del libro di Paola Lanfranco\nPaola Lanfranco\, psicologa\, psicomotricista\, e da circa un ventennio impegnata in percorsi di consapevolezza del femminile\, ha scritto una raccolta di racconti le cui protagoniste sono donne che hanno avuto il coraggio di porre al primo posto i propri bisogni e aspirazioni. Donne che hanno saputo affrontare e gestire problemi apparentemente insormontabili\, uscendone vincitrici. \nNessuna di loro è famosa\, secondo il concetto moderno di successo\, ma il loro riscatto ha il potere di incoraggiare altre donne che vivono simili situazioni emotive. \nDialoga con l’autrice la giornalista Ilaria Bonuccelli. \nEvento a cura di Laura Tartarelli Contemporary Art. \nIngresso libero. Per prenotazione: 0584 787251
URL:https://www.villabertelli.it/evento/il-coraggio-di-un-sorriso/
LOCATION:Villa Bertelli\, Via Giuseppe Mazzini 200\, Forte dei Marmi\, Italia
CATEGORIES:Banner Home,Calendario Eventi 2024
ATTACH;FMTTYPE=image/jpeg:https://www.villabertelli.it/wp-content/uploads/2024/10/paola-lanfranco.jpg
GEO:43.96864;10.158005
X-APPLE-STRUCTURED-LOCATION;VALUE=URI;X-ADDRESS=Villa Bertelli Via Giuseppe Mazzini 200 Forte dei Marmi Italia;X-APPLE-RADIUS=500;X-TITLE=Via Giuseppe Mazzini 200:geo:10.158005,43.96864
END:VEVENT
END:VCALENDAR