BEGIN:VCALENDAR
VERSION:2.0
PRODID:-//Fondazione Villa Bertelli - Forte dei Marmi - ECPv6.2.3.2//NONSGML v1.0//EN
CALSCALE:GREGORIAN
METHOD:PUBLISH
X-WR-CALNAME:Fondazione Villa Bertelli - Forte dei Marmi
X-ORIGINAL-URL:https://www.villabertelli.it
X-WR-CALDESC:Eventi per Fondazione Villa Bertelli - Forte dei Marmi
REFRESH-INTERVAL;VALUE=DURATION:PT1H
X-Robots-Tag:noindex
X-PUBLISHED-TTL:PT1H
BEGIN:VTIMEZONE
TZID:UTC
BEGIN:STANDARD
TZOFFSETFROM:+0000
TZOFFSETTO:+0000
TZNAME:UTC
DTSTART:20250101T000000
END:STANDARD
END:VTIMEZONE
BEGIN:VEVENT
DTSTART;TZID=UTC:20250417T190000
DTEND;TZID=UTC:20250417T190000
DTSTAMP:20260422T151311
CREATED:20250329T125230Z
LAST-MODIFIED:20250329T125230Z
UID:12944-1744916400-1744916400@www.villabertelli.it
SUMMARY:I Giovani Talenti - Teona Raykhelson e Roman Raykhelson
DESCRIPTION:I Giovani Talenti – Teona Raykhelson e Roman Raykhelson\nPer la rassegna “I concerti del Maestro Igor Raykhelson”\nI giovani talenti di Casa Raykhelson si esibiscono in un concerto classico con Teona Raykhelson al violino e Roman Raykhelson alla chitarra. Partecipano all’esibizione Ekaterina Ashtashova al violino\, Nancy Parra violino\, Fabio Lapi\, violino\, Giacomo Petrucci violoncello\, Tommaso Valenti viola e Marius Cjocariu contrabbasso. \nAccompagna al pianoforte il M° Igor Raykhelson. \nIngresso libero posti limitati. Prenotazione obbligatoria 0584 787251 / info@villabertelli.it
URL:https://www.villabertelli.it/evento/i-giovani-talenti-teona-raykhelson-e-roman-raykhelson/
LOCATION:Villa Bertelli\, Via Giuseppe Mazzini 200\, Forte dei Marmi\, Italia
CATEGORIES:Banner Home,Calendario Eventi 2025
ATTACH;FMTTYPE=image/png:https://www.villabertelli.it/wp-content/uploads/2025/03/Raykhelson-17.04.25-.png
GEO:43.96864;10.158005
X-APPLE-STRUCTURED-LOCATION;VALUE=URI;X-ADDRESS=Villa Bertelli Via Giuseppe Mazzini 200 Forte dei Marmi Italia;X-APPLE-RADIUS=500;X-TITLE=Via Giuseppe Mazzini 200:geo:10.158005,43.96864
END:VEVENT
END:VCALENDAR