BEGIN:VCALENDAR
VERSION:2.0
PRODID:-//Fondazione Villa Bertelli - Forte dei Marmi - ECPv6.2.3.2//NONSGML v1.0//EN
CALSCALE:GREGORIAN
METHOD:PUBLISH
X-WR-CALNAME:Fondazione Villa Bertelli - Forte dei Marmi
X-ORIGINAL-URL:https://www.villabertelli.it
X-WR-CALDESC:Eventi per Fondazione Villa Bertelli - Forte dei Marmi
REFRESH-INTERVAL;VALUE=DURATION:PT1H
X-Robots-Tag:noindex
X-PUBLISHED-TTL:PT1H
BEGIN:VTIMEZONE
TZID:UTC
BEGIN:STANDARD
TZOFFSETFROM:+0000
TZOFFSETTO:+0000
TZNAME:UTC
DTSTART:20230101T000000
END:STANDARD
END:VTIMEZONE
BEGIN:VEVENT
DTSTART;TZID=UTC:20230511T170000
DTEND;TZID=UTC:20230511T190000
DTSTAMP:20260420T003629
CREATED:20230213T151027Z
LAST-MODIFIED:20230328T142927Z
UID:9496-1683824400-1683831600@www.villabertelli.it
SUMMARY:Genitori e figli: le basi per una buona comunicazione
DESCRIPTION:Genitori e figli\nle basi per una buona comunicazione\nGenitori e figlie: le basi per una buona comunicazione – La complessa comunicazione fra genitori e figli è il tema dell’incontro promosso dalla Dott.ssa Maria Teresa Puliti\, Pediatra neonatologa e Dirigente medico U.O. Pediatria dell’Ospedale Versilia\, nonchè Professional Coach – Master in terapia psicologica breve e Master in Relazione con le persone difficili. \nIl progetto – scrive la dott.ssa Puliti nella presentazione – parte dalla lunga osservazione di quanto i processi comunicativi possano influire sulle dinamiche tra genitori e figli. Molti disagi della famiglia possono essere aggirati e risolti attraverso l’acquisizione di adeguate modalità comunicative. La conoscenza di alcuni corretti meccanismi relazionali\, può essere risolutiva in molte dispute educative e con semplici aggiustamenti dell’approccio comunicativo\, si possono raggiungere ottimi risultati\, migliorando i rapporti e il clima familiare.  \nUn incontro per meglio comprendere la più importante relazione affettiva\, che lega per sempre chi dà la vita e chi la riceve. \nIngresso libero\, prenotazioni 0584 787251
URL:https://www.villabertelli.it/evento/genitori-e-figli-le-basi-per-una-buona-comunicazione/
LOCATION:Villa Bertelli\, Via Giuseppe Mazzini 200\, Forte dei Marmi\, Italia
CATEGORIES:Banner Home,Calendario Eventi 2023
GEO:43.96864;10.158005
X-APPLE-STRUCTURED-LOCATION;VALUE=URI;X-ADDRESS=Villa Bertelli Via Giuseppe Mazzini 200 Forte dei Marmi Italia;X-APPLE-RADIUS=500;X-TITLE=Via Giuseppe Mazzini 200:geo:10.158005,43.96864
END:VEVENT
END:VCALENDAR