BEGIN:VCALENDAR
VERSION:2.0
PRODID:-//Fondazione Villa Bertelli - Forte dei Marmi - ECPv6.2.3.2//NONSGML v1.0//EN
CALSCALE:GREGORIAN
METHOD:PUBLISH
X-WR-CALNAME:Fondazione Villa Bertelli - Forte dei Marmi
X-ORIGINAL-URL:https://www.villabertelli.it
X-WR-CALDESC:Eventi per Fondazione Villa Bertelli - Forte dei Marmi
REFRESH-INTERVAL;VALUE=DURATION:PT1H
X-Robots-Tag:noindex
X-PUBLISHED-TTL:PT1H
BEGIN:VTIMEZONE
TZID:UTC
BEGIN:STANDARD
TZOFFSETFROM:+0000
TZOFFSETTO:+0000
TZNAME:UTC
DTSTART:20250101T000000
END:STANDARD
END:VTIMEZONE
BEGIN:VEVENT
DTSTART;TZID=UTC:20250426T180000
DTEND;TZID=UTC:20250426T180000
DTSTAMP:20260422T201207
CREATED:20250403T102113Z
LAST-MODIFIED:20250421T161813Z
UID:12957-1745690400-1745690400@www.villabertelli.it
SUMMARY:Fidia Arata: una vita fra etica e morale
DESCRIPTION:Fidia Arata: una vita fra etica e morale\nA cura del Comitato Vittoria Apuana\nIl Comitato vittoria Apuana ricorda la figura di Fidia Arata ex sindaco e figura di spicco della vita culturale e sociale della storia Forte dei Marmi. \nIntervengono Roberto Bertola\, Massimo Marsili\, Franco Pezzica e Veronica Pierotti. \nModera Silvana Arata. \n Ingresso libero. Prenotazione 0584 787251
URL:https://www.villabertelli.it/evento/fidia-arata-una-vita-fra-etica-e-morale/
LOCATION:Villa Bertelli\, Via Giuseppe Mazzini 200\, Forte dei Marmi\, Italia
CATEGORIES:Banner Home,Calendario Eventi 2025
ATTACH;FMTTYPE=image/png:https://www.villabertelli.it/wp-content/uploads/2025/04/Fidia-Arata_.png
GEO:43.96864;10.158005
X-APPLE-STRUCTURED-LOCATION;VALUE=URI;X-ADDRESS=Villa Bertelli Via Giuseppe Mazzini 200 Forte dei Marmi Italia;X-APPLE-RADIUS=500;X-TITLE=Via Giuseppe Mazzini 200:geo:10.158005,43.96864
END:VEVENT
END:VCALENDAR