BEGIN:VCALENDAR
VERSION:2.0
PRODID:-//Fondazione Villa Bertelli - Forte dei Marmi - ECPv6.2.3.2//NONSGML v1.0//EN
CALSCALE:GREGORIAN
METHOD:PUBLISH
X-WR-CALNAME:Fondazione Villa Bertelli - Forte dei Marmi
X-ORIGINAL-URL:https://www.villabertelli.it
X-WR-CALDESC:Eventi per Fondazione Villa Bertelli - Forte dei Marmi
REFRESH-INTERVAL;VALUE=DURATION:PT1H
X-Robots-Tag:noindex
X-PUBLISHED-TTL:PT1H
BEGIN:VTIMEZONE
TZID:UTC
BEGIN:STANDARD
TZOFFSETFROM:+0000
TZOFFSETTO:+0000
TZNAME:UTC
DTSTART:20260101T000000
END:STANDARD
END:VTIMEZONE
BEGIN:VEVENT
DTSTART;TZID=UTC:20260709T213000
DTEND;TZID=UTC:20260709T233000
DTSTAMP:20260419T194518
CREATED:20251125T140923Z
LAST-MODIFIED:20251210T152732Z
UID:13861-1783632600-1783639800@www.villabertelli.it
SUMMARY:EUROPE
DESCRIPTION:EUROPE\nTour 2026\nATTENZIONE! Si avvisano i gentili clienti che il concerto degli Europe\, previsto per venerdì 10 luglio 2026 è stato anticipato a giovedì 9 luglio 2026. I biglietti già acquistati restano validi per la nuova data. Chi volesse richiedere il rimborso può farlo entro e non oltre domenica 21 dicembre 2025 a questi indirizzi:\n\nVivaticket: https://shop.vivaticket.com/ita/rimborsi\n\nTicketone: https://www.rimborsi-ticketone.it/\nChi ha acquistato i biglietti presso Villa Bertelli dovrà recarsi direttamente lì.\n  \nAmatissimi dai fan e protagonisti negli anni ‘80 della scena hard rock melodica e del rock internazionale\, gli Europe torneranno nuovamente in Italia nel corso dell’estate 2026 per quattro concerti. \nAprono il calendario dei concerti di Forte dei Marmi sul palco di Villa Bertelli Live. \n  \n\n\n\n\n\n\nPrezzo Biglietti \n\n\n\n\n\n\n\n\nPIT Early Entry in piedi: € 65\,00\nPosto Unico in piedi: € 55\,00\n\n\n\n\nTribuna centrale numerata: € 70\,00\n\n\n\n\nTribuna Gold numerata: € 85\,00\n\n\n\n\nApertura porte Pit Early Entry: ore 18:30 \nApertura porte Posto Unico: ore 19:00 \nApertura porte Tribune (ingresso da via P. I. da Carrara): ore 19:00 \nInizio spettacolo ore 21.30 \n\n\nGli orari potrebbero subire modifiche a ridosso della data\, si suggerisce di tenere monitorati i social di Villa Bertelli\n\n\n\n\nBIGLIETTERIA VILLA BERTELLI: TUTTI I GIORNI 16.00/19.00 – LUGLIO E AGOSTO: 17.00/22.00\n\nPRENOTA IL TUO BIGLIETTO SU TICKETONE E VIVATICKET\n\n\n\n\n\n\n\n\nACCESSO BAMBINI\n\n\n\n\nPer ragioni di sicurezza ed a tutela dell’incolumità fisica del minore\, si sconsiglia fortemente di portare all’evento bambini di età inferiore ai 4 anni. In ogni caso i bambini di età inferiore ai 6 anni accompagnati da un adulto (maggiorenne) provvisto di regolare biglietto possono accedere gratuitamente al luogo dell’evento e assistere allo spettacolo\, in numero di un bambino/a per ogni adulto accompagnatore. \nSe l’adulto ha un biglietto per un settore a posti numerati\, il bambino NON ha diritto ad occupare un posto a sedere e deve essere necessariamente tenuto in braccio. Il bambino dai 6 anni compiuti paga il biglietto intero. \nATTENZIONE: per i concerti con posto in piedi l’accesso nel parterre posto unico in piedi (normale o PIT early-entry) i bambini pagano il biglietto dai 4 anni compiuti. Resta valida l’agevolazione fino a 6 anni non compiuti per l’acquisto di posti numerati in tribuna. \n  \n\nACCESSO UNDER 16\nPer motivi di sicurezza e come disposto dalla Questura\, fino ai 16 anni compresi i ragazzi per accedere ai concerti devono essere accompagnati da una persona maggiorenne (fratello\, genitore\, ecc.) \n  \nIN CASO DI DISABILITA’\nI portatori di handicap possono richiedere l’acquisto agevolato solo se provvisti di certificato di invalidità al 100%. I biglietti sono reperibili esclusivamente contattando Villa Bertelli tramite la mail info@villabertelli.it e inviando il modulo che verrà fornito per la richiesta. I biglietti verranno concessi in base alla disponibilità per lo spettacolo in oggetto al momento della richiesta. \n\n\n\n\n 
URL:https://www.villabertelli.it/evento/europe/
LOCATION:Villa Bertelli\, Via Giuseppe Mazzini 200\, Forte dei Marmi\, Italia
CATEGORIES:Banner Home,Calendario Eventi 2026
ATTACH;FMTTYPE=image/png:https://www.villabertelli.it/wp-content/uploads/2025/11/europ-evid-.png
GEO:43.96864;10.158005
X-APPLE-STRUCTURED-LOCATION;VALUE=URI;X-ADDRESS=Villa Bertelli Via Giuseppe Mazzini 200 Forte dei Marmi Italia;X-APPLE-RADIUS=500;X-TITLE=Via Giuseppe Mazzini 200:geo:10.158005,43.96864
END:VEVENT
END:VCALENDAR