BEGIN:VCALENDAR
VERSION:2.0
PRODID:-//Fondazione Villa Bertelli - Forte dei Marmi - ECPv6.2.3.2//NONSGML v1.0//EN
CALSCALE:GREGORIAN
METHOD:PUBLISH
X-WR-CALNAME:Fondazione Villa Bertelli - Forte dei Marmi
X-ORIGINAL-URL:https://www.villabertelli.it
X-WR-CALDESC:Eventi per Fondazione Villa Bertelli - Forte dei Marmi
REFRESH-INTERVAL;VALUE=DURATION:PT1H
X-Robots-Tag:noindex
X-PUBLISHED-TTL:PT1H
BEGIN:VTIMEZONE
TZID:UTC
BEGIN:STANDARD
TZOFFSETFROM:+0000
TZOFFSETTO:+0000
TZNAME:UTC
DTSTART:20240101T000000
END:STANDARD
END:VTIMEZONE
BEGIN:VEVENT
DTSTART;TZID=UTC:20241025T170000
DTEND;TZID=UTC:20241025T170000
DTSTAMP:20260422T151251
CREATED:20241009T163613Z
LAST-MODIFIED:20241009T163613Z
UID:12438-1729875600-1729875600@www.villabertelli.it
SUMMARY:DEIR EL-MEDINA E IL MUSEO EGIZIO: STORIA\, COLLEZIONISMO E ARCHEOLOGIA
DESCRIPTION:DEIR EL-MEDINA E IL MUSEO EGIZIO: STORIA\, COLLEZIONISMO E ARCHEOLOGIA\nConferenza a cura di Paolo Marini\nPaolo Marini\, curatore del Museo Egizio di Torino e curatore della mostra “Gli Egizi e i doni del Nilo” relatore nella conferenza DEIR -EL-MEDINA E IL MUSEO EGIZIO: STORIA COLLEZIONISMO E ARCHEOLOGIA. \nIngresso libero. Prenotazione 0584 787251.
URL:https://www.villabertelli.it/evento/deir-el-medina-e-il-museo-egizio-storia-collezionismo-e-archeologia/
LOCATION:Villa Bertelli\, Via Giuseppe Mazzini 200\, Forte dei Marmi\, Italia
CATEGORIES:Banner Home,Calendario Eventi 2024
ATTACH;FMTTYPE=image/jpeg:https://www.villabertelli.it/wp-content/uploads/2024/10/marini-egizi.jpg
GEO:43.96864;10.158005
X-APPLE-STRUCTURED-LOCATION;VALUE=URI;X-ADDRESS=Villa Bertelli Via Giuseppe Mazzini 200 Forte dei Marmi Italia;X-APPLE-RADIUS=500;X-TITLE=Via Giuseppe Mazzini 200:geo:10.158005,43.96864
END:VEVENT
END:VCALENDAR