BEGIN:VCALENDAR
VERSION:2.0
PRODID:-//Fondazione Villa Bertelli - Forte dei Marmi - ECPv6.2.3.2//NONSGML v1.0//EN
CALSCALE:GREGORIAN
METHOD:PUBLISH
X-WR-CALNAME:Fondazione Villa Bertelli - Forte dei Marmi
X-ORIGINAL-URL:https://www.villabertelli.it
X-WR-CALDESC:Eventi per Fondazione Villa Bertelli - Forte dei Marmi
REFRESH-INTERVAL;VALUE=DURATION:PT1H
X-Robots-Tag:noindex
X-PUBLISHED-TTL:PT1H
BEGIN:VTIMEZONE
TZID:UTC
BEGIN:STANDARD
TZOFFSETFROM:+0000
TZOFFSETTO:+0000
TZNAME:UTC
DTSTART:20230101T000000
END:STANDARD
END:VTIMEZONE
BEGIN:VEVENT
DTSTART;TZID=UTC:20230924T170000
DTEND;TZID=UTC:20230924T190000
DTSTAMP:20260422T074017
CREATED:20230915T112550Z
LAST-MODIFIED:20230915T112550Z
UID:10575-1695574800-1695582000@www.villabertelli.it
SUMMARY:CRISTIAN MONTI\, Concerto Pianoforte
DESCRIPTION:            CRISTIAN MONTI            CONCERTO PIANOFORTE\n\n    Da Geminiani a Schubert e Schumann a Scriabin\n\n  \nCristian Monti presenta un viaggio che attraversa due secoli di musica: dalle note del compositore lucchese Geminiani\, passando per il Romanticismo di Schubert e Schumann\, fino alle magiche armonie di Scriabin.\n“Il concerto si propone come un’esplorazione del repertorio pianistico in tutto il suo fascino”\, C.M.\n\n\nProgramma :\nF. Geminiani: Pièces de clavecin\nVII. Amoureusement\nVIII. Vivement\nIX. Modérément\nG. F. Haendel : Suite in fa minore HWV 433\nPrélude\nAllemande\nCourante\nGigue\nF. Schubert: Impromptu op.142 n.3\nImpromptu op. 90 n.4\nR. Schumann: Arabeske op. 18\nPapillons op.2\nA. Scriabin: Sonata n.10 op. 70
URL:https://www.villabertelli.it/evento/cristian-monti-concerto-pianoforte/
LOCATION:Villa Bertelli\, Via Giuseppe Mazzini 200\, Forte dei Marmi\, Italia
CATEGORIES:Banner Home
ATTACH;FMTTYPE=image/jpeg:https://www.villabertelli.it/wp-content/uploads/2023/09/1991-1.jpg
GEO:43.96864;10.158005
X-APPLE-STRUCTURED-LOCATION;VALUE=URI;X-ADDRESS=Villa Bertelli Via Giuseppe Mazzini 200 Forte dei Marmi Italia;X-APPLE-RADIUS=500;X-TITLE=Via Giuseppe Mazzini 200:geo:10.158005,43.96864
END:VEVENT
END:VCALENDAR