BEGIN:VCALENDAR
VERSION:2.0
PRODID:-//Fondazione Villa Bertelli - Forte dei Marmi - ECPv6.2.3.2//NONSGML v1.0//EN
CALSCALE:GREGORIAN
METHOD:PUBLISH
X-WR-CALNAME:Fondazione Villa Bertelli - Forte dei Marmi
X-ORIGINAL-URL:https://www.villabertelli.it
X-WR-CALDESC:Eventi per Fondazione Villa Bertelli - Forte dei Marmi
REFRESH-INTERVAL;VALUE=DURATION:PT1H
X-Robots-Tag:noindex
X-PUBLISHED-TTL:PT1H
BEGIN:VTIMEZONE
TZID:UTC
BEGIN:STANDARD
TZOFFSETFROM:+0000
TZOFFSETTO:+0000
TZNAME:UTC
DTSTART:20180101T000000
END:STANDARD
END:VTIMEZONE
BEGIN:VEVENT
DTSTART;TZID=UTC:20180428T174500
DTEND;TZID=UTC:20180428T193000
DTSTAMP:20260419T162604
CREATED:20180424T083232Z
LAST-MODIFIED:20180424T083312Z
UID:4818-1524937500-1524943800@www.villabertelli.it
SUMMARY:Il crepuscolo degli chef di Davide Paolini
DESCRIPTION:Il “gastronauta” Davide Paolini\, protagonista del secondo appuntamento con la rassegna “Scrivere il cibo” . \nDavide Paolini\, il “gastronauta”\, sarà il protagonista del secondo appuntamento con la rassegna “Scrivere il cibo.  Paolini\, giornalista\, gastronomo e conduttore radiofonico\, presenterà il libro “Il crepuscolo degli chef”. A confrontarsi con lui sul futuro dei carismatici capocuochi saranno Cristiano Tomei\, chef stellato e protagonista in tv\, che racconterà gustosi retroscena della vita in cucina e Marco Vaiani convinto sostenitore di una grande ristorazione\, senza l’esaltazione dello chef. Punti di vista diversi che animeranno lo spettacolo\, condotto dal curatore della rassegna Corrado Benzio. Ancora una volta\, una degustazione di prodotti tipici saluterà il pubblico in sala\, al termine della presentazione. \n 
URL:https://www.villabertelli.it/evento/crepuscolo-degli-chef-davide-paolini/
LOCATION:Villa Bertelli\, Via Giuseppe Mazzini 200\, Forte dei Marmi\, Italia
CATEGORIES:Banner Home,Calendario Eventi 2018,Quadrato Home
ATTACH;FMTTYPE=image/jpeg:https://www.villabertelli.it/wp-content/uploads/2018/04/convegno-28.4-min.jpeg
GEO:43.96864;10.158005
X-APPLE-STRUCTURED-LOCATION;VALUE=URI;X-ADDRESS=Villa Bertelli Via Giuseppe Mazzini 200 Forte dei Marmi Italia;X-APPLE-RADIUS=500;X-TITLE=Via Giuseppe Mazzini 200:geo:10.158005,43.96864
END:VEVENT
END:VCALENDAR