BEGIN:VCALENDAR
VERSION:2.0
PRODID:-//Fondazione Villa Bertelli - Forte dei Marmi - ECPv6.2.3.2//NONSGML v1.0//EN
CALSCALE:GREGORIAN
METHOD:PUBLISH
X-WR-CALNAME:Fondazione Villa Bertelli - Forte dei Marmi
X-ORIGINAL-URL:https://www.villabertelli.it
X-WR-CALDESC:Eventi per Fondazione Villa Bertelli - Forte dei Marmi
REFRESH-INTERVAL;VALUE=DURATION:PT1H
X-Robots-Tag:noindex
X-PUBLISHED-TTL:PT1H
BEGIN:VTIMEZONE
TZID:UTC
BEGIN:STANDARD
TZOFFSETFROM:+0000
TZOFFSETTO:+0000
TZNAME:UTC
DTSTART:20240101T000000
END:STANDARD
END:VTIMEZONE
BEGIN:VEVENT
DTSTART;TZID=UTC:20241027T170000
DTEND;TZID=UTC:20241027T170000
DTSTAMP:20260422T115127
CREATED:20241008T134749Z
LAST-MODIFIED:20241008T143059Z
UID:12419-1730048400-1730048400@www.villabertelli.it
SUMMARY:CONCERTO OBOE-PIANOFORTE
DESCRIPTION:CONCERTO OBOE-PIANOFORTE\nCon Francesco Nigro e Violetta Petrelli\nDue affermati artisti: Francesco Nigro e Violetta Petrelli in un concerto per oboe e pianoforte. Entrambi concertisti in importanti teatri del panorama musicale italiano. \nFrancesco Nigro collabora attivamente con le orchestre dei Conservatori di Matera\, Foggia\, Bari e Taranto. Ha collaborato con l’Orchestra della Valle D’Itria di Martina Franca\, l’Orchestra della Città Metropolitana di Bari\, l’Orchestra Regionale delle Marche\, l’Orchestra del Teatro del Giglio di Lucca\, l’Orchestra Filarmonica di Benevento\, l’Orchestra Cameristica Collegium di Bari\, l’Orchestra di Matera e della Basilicata\, l’Orchestra Sinfonica di Sanremo\, l’Orchestra dell’Istituzione Sinfonica Abruzzese\, l’Orchestra da Camera di Perugia\, l’Orchestra “i suoni del Sud” di Foggia\, l’Orchestra del Teatro Petruzzelli di Bari\, l’Orchestra Nazionale di Santa Cecilia di Roma\, l’Orchestra del Teatro Massimo di Palermo e la “World Youth Orchestra”\, con la quale ha partecipato a diverse tournée. \nDi particolare rilievo sono stati i concerti nell’ambito del 13° Festival Culturale Internazionale di Musica Sinfonica\, tenutisi in Algeria. Attualmente\, è docente di oboe in collaborazione con il Conservatorio “Giovanni Paisiello” di Taranto. \nVioletta Petrelli ha collaborato con numerose Istituzioni\, tra le quali l’Orchestra ICO della Magna Grecia\, l’ Orchestra Sinfonica di Savona\, la Fondazione Paolo Grassi\, la SIMC Società Italiana di Musica Contemporanea\, l’ Associazione Musicale Domenico Savino\, l’ Associazione Sud Est Donne\, l’Istituto Musicale Ruggero Leoncavallo. In particolare\, ha una collaborazione pluriennale con l’ Associazione Regionale Cori Pugliesi (Arcopu)\, dove ha lavorato in qualità di pianista accompagnatore sotto la direzione di A. Crastolla\, M. Nitti\, L. Bressan\, G. Marcianò. Attualmente si perfeziona nella musica d’insieme\, possedendo un vasto repertorio che spazia attraverso diverse epoche\, stili e strumenti. \nProgramma:R. Schumann\, Romanze per oboe e pianoforte op. 94I. Nicht schnellII. Einfach\, innigIII. Nicht schnellE. Paladilhe\, Solo per oboe e pianoforteR. Schumann\, Arabesque in do maggiore per pianoforte op. 18_____J. N. Hummel\, Introduzione\, tema e variazione op. 102R. Donizetti\, Sonata in fa maggiore per oboe e pianoforteI. AndanteII Allegro \nPosti limitati! Prenotazione obbligatoria allo 0584 787251.
URL:https://www.villabertelli.it/evento/concerto-oboe-pianoforte/
LOCATION:Villa Bertelli\, Via Giuseppe Mazzini 200\, Forte dei Marmi\, Italia
CATEGORIES:Banner Home,Calendario Eventi 2024
ATTACH;FMTTYPE=image/jpeg:https://www.villabertelli.it/wp-content/uploads/2024/10/nigro_.jpg
GEO:43.96864;10.158005
X-APPLE-STRUCTURED-LOCATION;VALUE=URI;X-ADDRESS=Villa Bertelli Via Giuseppe Mazzini 200 Forte dei Marmi Italia;X-APPLE-RADIUS=500;X-TITLE=Via Giuseppe Mazzini 200:geo:10.158005,43.96864
END:VEVENT
END:VCALENDAR