BEGIN:VCALENDAR
VERSION:2.0
PRODID:-//Fondazione Villa Bertelli - Forte dei Marmi - ECPv6.2.3.2//NONSGML v1.0//EN
CALSCALE:GREGORIAN
METHOD:PUBLISH
X-WR-CALNAME:Fondazione Villa Bertelli - Forte dei Marmi
X-ORIGINAL-URL:https://www.villabertelli.it
X-WR-CALDESC:Eventi per Fondazione Villa Bertelli - Forte dei Marmi
REFRESH-INTERVAL;VALUE=DURATION:PT1H
X-Robots-Tag:noindex
X-PUBLISHED-TTL:PT1H
BEGIN:VTIMEZONE
TZID:UTC
BEGIN:STANDARD
TZOFFSETFROM:+0000
TZOFFSETTO:+0000
TZNAME:UTC
DTSTART:20250101T000000
END:STANDARD
END:VTIMEZONE
BEGIN:VEVENT
DTSTART;TZID=UTC:20250426T210000
DTEND;TZID=UTC:20250426T210000
DTSTAMP:20260422T220500
CREATED:20250405T161915Z
LAST-MODIFIED:20250424T121250Z
UID:12989-1745701200-1745701200@www.villabertelli.it
SUMMARY:Concerto "Morricone e Puccini swing"
DESCRIPTION:Concerto “Morricone e Puccini swing”\nA cura di Luca Magni\nPOSTI ESAURITI\n\nConcerto pop e swing con:\nLUCA MAGNI • flauto\nFABIO BATTISTELLI • clarinetto\nMASSIMO BARSOTTI • pianoforte e arrangiamenti\nGIULIO BARSOTTI • contrabbassoGuest Star: SOFIA ORLANDINI • canto\n\nIl progetto nasce nel 2018 da un’idea del flautista Luca Magni\, come omaggio per i 90 anni del compositore romano\, affidando al pianista- compositore Massimo Barsotti l’elaborazione di alcuni dei temi più famosi scritti per il cinema. Gli arrangiamenti vedono la presenza del classico trio ritmico (pf\, cb e batt) con flauto e clarinetto come strumenti solisti.\n\nPosti limitati! Prenotazione obbligatoria allo 0584 787251 o alla mail info@villabertelli.it\n\nProgramma\n\nPuccini e Morricone in SwingNuovo Cinema Paradiso (Morricone)Quando men vo (Puccini)C’era una volta il West (Morricone)Nessun Dorma (Puccini)Gabriel’s Oboe (Morricone)O mio babbino caro (Puccini)Sacco e Vanzetti (Morricone)
URL:https://www.villabertelli.it/evento/concerto-morricone-e-puccini-swing/
LOCATION:Villa Bertelli\, Via Giuseppe Mazzini 200\, Forte dei Marmi\, Italia
CATEGORIES:Banner Home,Calendario Eventi 2025
ATTACH;FMTTYPE=image/jpeg:https://www.villabertelli.it/wp-content/uploads/2025/04/Luca-Magni-1.jpg
GEO:43.96864;10.158005
X-APPLE-STRUCTURED-LOCATION;VALUE=URI;X-ADDRESS=Villa Bertelli Via Giuseppe Mazzini 200 Forte dei Marmi Italia;X-APPLE-RADIUS=500;X-TITLE=Via Giuseppe Mazzini 200:geo:10.158005,43.96864
END:VEVENT
END:VCALENDAR