BEGIN:VCALENDAR
VERSION:2.0
PRODID:-//Fondazione Villa Bertelli - Forte dei Marmi - ECPv6.2.3.2//NONSGML v1.0//EN
CALSCALE:GREGORIAN
METHOD:PUBLISH
X-WR-CALNAME:Fondazione Villa Bertelli - Forte dei Marmi
X-ORIGINAL-URL:https://www.villabertelli.it
X-WR-CALDESC:Eventi per Fondazione Villa Bertelli - Forte dei Marmi
REFRESH-INTERVAL;VALUE=DURATION:PT1H
X-Robots-Tag:noindex
X-PUBLISHED-TTL:PT1H
BEGIN:VTIMEZONE
TZID:UTC
BEGIN:STANDARD
TZOFFSETFROM:+0000
TZOFFSETTO:+0000
TZNAME:UTC
DTSTART:20240101T000000
END:STANDARD
END:VTIMEZONE
BEGIN:VEVENT
DTSTART;TZID=UTC:20241006T210000
DTEND;TZID=UTC:20241006T210000
DTSTAMP:20260423T013926
CREATED:20240921T141821Z
LAST-MODIFIED:20240921T141821Z
UID:12361-1728248400-1728248400@www.villabertelli.it
SUMMARY:Concerto di San Francesco
DESCRIPTION:Concerto di San Francesco\nCon in mezzosoprano Anna Maria Chiuri e il M° accompagnatore Cesare Goretta\nConcerto di San Francesco nella chiesa di San Francesco a Vittoria Apuana. Protagonisti\, Anna Maria Chiuri\, mezzosoprano di fama nazionale e internazionale e il Maestro accompagnatore Cesare Goretta\, affermato pianista e affezionato amico di Villa Bertelli.
URL:https://www.villabertelli.it/evento/concerto-di-san-francesco-2024/
LOCATION:Chiesa di San Francesco\, Via Trieste\, 1\, Forte dei Marmi\, Italia
CATEGORIES:Banner Home,Calendario Eventi 2024
ATTACH;FMTTYPE=image/jpeg:https://www.villabertelli.it/wp-content/uploads/2024/09/concerto-san-francesco.jpg
GEO:43.971451;10.1591867,18
X-APPLE-STRUCTURED-LOCATION;VALUE=URI;X-ADDRESS=Chiesa di San Francesco Via Trieste 1 Forte dei Marmi Italia;X-APPLE-RADIUS=500;X-TITLE=Via Trieste\, 1:geo:10.1591867,18,43.971451
END:VEVENT
END:VCALENDAR