BEGIN:VCALENDAR
VERSION:2.0
PRODID:-//Fondazione Villa Bertelli - Forte dei Marmi - ECPv6.2.3.2//NONSGML v1.0//EN
CALSCALE:GREGORIAN
METHOD:PUBLISH
X-WR-CALNAME:Fondazione Villa Bertelli - Forte dei Marmi
X-ORIGINAL-URL:https://www.villabertelli.it
X-WR-CALDESC:Eventi per Fondazione Villa Bertelli - Forte dei Marmi
REFRESH-INTERVAL;VALUE=DURATION:PT1H
X-Robots-Tag:noindex
X-PUBLISHED-TTL:PT1H
BEGIN:VTIMEZONE
TZID:UTC
BEGIN:STANDARD
TZOFFSETFROM:+0000
TZOFFSETTO:+0000
TZNAME:UTC
DTSTART:20250101T000000
END:STANDARD
END:VTIMEZONE
BEGIN:VEVENT
DTSTART;TZID=UTC:20250330T170000
DTEND;TZID=UTC:20250330T183000
DTSTAMP:20260422T151133
CREATED:20250320T094400Z
LAST-MODIFIED:20250320T100808Z
UID:12909-1743354000-1743359400@www.villabertelli.it
SUMMARY:Concerto di finissage mostra "Gli Egizi e i doni del Nilo"
DESCRIPTION:Concerto di finissage\nScene da Aida\nSuggestivo finissage per la mostra Gli Egizi e i doni del Nilo\, che il prossimo 2 aprile chiuderà i battenti al Forte di Leopoldo I a Forte dei Marmi. Domenica 30 marzo alle 17.00 in Piazza Garibaldi verrà presentato Scene da Aida\, un concerto lirico\, tratto dalla celebre opera di Giuseppe Verdi\, basata su un soggetto originale dell’archeologo francese Auguste Mariette\, primo direttore del Museo Egizio del Cairo. \nSul palco in Piazza Garibaldi saliranno il soprano Gianna Queni\, il mezzosoprano Benedetta Mazzeto e il tenore Vladimir Reutov\, che saranno accompagnati al pianoforte dal Maestro Cesare Goretta.  Per l’occasione\, gli interpreti indosseranno raffinati abiti di scena storici\, realizzati dalla celebre sartoria Cerratelli e messi gentilmente a disposizione dalla Fondazione omonima. \n  \nPROGRAMMA: \nAida primo atto: “Celeste Aida” (tenore)  \n“Ritorna vincitor” (soprano) \nAida atto secondo: “Fu la sorte dell’armi a tuoi funesta” (soprano-mezzosoprano) \nAida atto quarto: “Già i sacerdoti adunansi” (tenore-mezzosoprano) \n“La fatal pietra sovra me si chiuse…O terra addio” (Soprano-mezzosoprano-tenore)
URL:https://www.villabertelli.it/evento/concerto-di-finissage-mostra-gli-egizi-e-i-doni-del-nilo/
LOCATION:Piazza Garibaldi\, Forte dei Marmi\, 55042
CATEGORIES:Banner Home,Calendario Eventi 2025
ATTACH;FMTTYPE=image/png:https://www.villabertelli.it/wp-content/uploads/2025/03/concerto_finissage_gli_egizi_e_i_doni_del_nilo.png
END:VEVENT
END:VCALENDAR