BEGIN:VCALENDAR
VERSION:2.0
PRODID:-//Fondazione Villa Bertelli - Forte dei Marmi - ECPv6.2.3.2//NONSGML v1.0//EN
CALSCALE:GREGORIAN
METHOD:PUBLISH
X-WR-CALNAME:Fondazione Villa Bertelli - Forte dei Marmi
X-ORIGINAL-URL:https://www.villabertelli.it
X-WR-CALDESC:Eventi per Fondazione Villa Bertelli - Forte dei Marmi
REFRESH-INTERVAL;VALUE=DURATION:PT1H
X-Robots-Tag:noindex
X-PUBLISHED-TTL:PT1H
BEGIN:VTIMEZONE
TZID:UTC
BEGIN:STANDARD
TZOFFSETFROM:+0000
TZOFFSETTO:+0000
TZNAME:UTC
DTSTART:20250101T000000
END:STANDARD
END:VTIMEZONE
BEGIN:VEVENT
DTSTART;TZID=UTC:20250405T170000
DTEND;TZID=UTC:20250405T170000
DTSTAMP:20260422T115203
CREATED:20250329T110517Z
LAST-MODIFIED:20250329T110517Z
UID:12932-1743872400-1743872400@www.villabertelli.it
SUMMARY:Carlo Piaggia e il ritrovamento della sua sepoltura
DESCRIPTION:Carlo Piaggia e il ritrovamento della sua sepoltura\nA cura di Luca Lupi e Luca Menesini\nConferenza in cui Luca Lupi\, africanista ed esploratore\, insieme al sindaco di Capannori Luca Menesini racconta la scoperta della tomba dell’esploratore capannorese Carlo Piaggia\, che morì a Karkoj\, lungo il Nilo blu\, località del Sudan Meridionale il 17 gennaio 1882 durante una spedizione in cui stava facendo da guida all’esploratore olandese Schuver. Questa l’importante scoperta è stata fatta nel 2023 da una delegazione lucchese. Lupi viaggiatore ed esploratore\, africanista di lungo corso\, scrittore e divulgatore scientifico\, ricercatore storico-geografico\, fotografo\, è considerato il massimo esperto multidisciplinare della regione africana della Dancalia. L’idea di fare l’esploratore lo ha affascinato fin da ragazzo e la passione per le Scienze della Terra gli ha fatto intraprendere gli studi universitari del corso di laurea di Scienze Geologiche dell’Università di Pisa\, scegliendo l’indirizzo vulcanologico. La sua passione per i vulcani si è sviluppata sempre più partecipando alle lezioni universitarie di Giorgio Marinelli e Franco Barberi e quelle sul campo sui vulcani italiani dal 1989 al ’94 organizzate dallo stesso Barberi\, e in seguito organizzando spedizioni su vari vulcani del mondo con Mauro Rosi\, Paolo Papale\, Mauro Coltelli e altri\, tutti vulcanologi di fama internazionale.\n\nIngresso libero – Sala Ferrario. Prenotazione obbligatoria allo 0584 787251 o alla mail info@villabertelli.it
URL:https://www.villabertelli.it/evento/carlo-piaggia-e-il-ritrovamento-della-sua-sepoltura/
LOCATION:Villa Bertelli\, Via Giuseppe Mazzini 200\, Forte dei Marmi\, Italia
CATEGORIES:Banner Home,Calendario Eventi 2025
ATTACH;FMTTYPE=image/png:https://www.villabertelli.it/wp-content/uploads/2025/03/Carlo-Piaggia.png
GEO:43.96864;10.158005
X-APPLE-STRUCTURED-LOCATION;VALUE=URI;X-ADDRESS=Villa Bertelli Via Giuseppe Mazzini 200 Forte dei Marmi Italia;X-APPLE-RADIUS=500;X-TITLE=Via Giuseppe Mazzini 200:geo:10.158005,43.96864
END:VEVENT
END:VCALENDAR