BEGIN:VCALENDAR
VERSION:2.0
PRODID:-//Fondazione Villa Bertelli - Forte dei Marmi - ECPv6.2.3.2//NONSGML v1.0//EN
CALSCALE:GREGORIAN
METHOD:PUBLISH
X-WR-CALNAME:Fondazione Villa Bertelli - Forte dei Marmi
X-ORIGINAL-URL:https://www.villabertelli.it
X-WR-CALDESC:Eventi per Fondazione Villa Bertelli - Forte dei Marmi
REFRESH-INTERVAL;VALUE=DURATION:PT1H
X-Robots-Tag:noindex
X-PUBLISHED-TTL:PT1H
BEGIN:VTIMEZONE
TZID:UTC
BEGIN:STANDARD
TZOFFSETFROM:+0000
TZOFFSETTO:+0000
TZNAME:UTC
DTSTART:20230101T000000
END:STANDARD
END:VTIMEZONE
BEGIN:VEVENT
DTSTART;TZID=UTC:20230917T210000
DTEND;TZID=UTC:20230917T210000
DTSTAMP:20260422T054757
CREATED:20230908T102541Z
LAST-MODIFIED:20230908T102541Z
UID:10537-1694984400-1694984400@www.villabertelli.it
SUMMARY:Boccherini in Spagna
DESCRIPTION:Boccherini in Spagna\nL’influsso della cultura iberica sull’opera del grande compositore toscano nei 280 anni dalla nascita\nMusicisti: Tommaso Tarsi chitarra\, Arianna Maida e Chiara Bosco violini\, Elisabetta Cordoni Viola e Gabriele Bracci violoncello. \nLa direzione artistica dell’OGT ha dato inizio\, nel 2023\, ai festeggiamenti per Luigi Boccherini in occasione di questo anniversario. \nIl programma è dedicato ad i suoi più celebri quintetti per chitarra e archi: Il primo in re minore\, il quarto in re maggiore detto “del Fandango” e le 12 variazioni sul tema della “ritirata di Madrid”. \nBrani dove è forte l’influenza della musica popolare spagnola\, vista la permanenza di Boccherini nel paese iberico dal 1769 fino alla morte\, avvenuta nel 1805. \nIngresso a offerta.  \nPrenotazione 0584 787251
URL:https://www.villabertelli.it/evento/boccherini-in-spagna/
LOCATION:Villa Bertelli\, Via Giuseppe Mazzini 200\, Forte dei Marmi\, Italia
CATEGORIES:Banner Home,Calendario Eventi 2023
ATTACH;FMTTYPE=image/jpeg:https://www.villabertelli.it/wp-content/uploads/2023/09/boccherini.jpg
GEO:43.96864;10.158005
X-APPLE-STRUCTURED-LOCATION;VALUE=URI;X-ADDRESS=Villa Bertelli Via Giuseppe Mazzini 200 Forte dei Marmi Italia;X-APPLE-RADIUS=500;X-TITLE=Via Giuseppe Mazzini 200:geo:10.158005,43.96864
END:VEVENT
END:VCALENDAR