BEGIN:VCALENDAR
VERSION:2.0
PRODID:-//Fondazione Villa Bertelli - Forte dei Marmi - ECPv6.2.3.2//NONSGML v1.0//EN
CALSCALE:GREGORIAN
METHOD:PUBLISH
X-WR-CALNAME:Fondazione Villa Bertelli - Forte dei Marmi
X-ORIGINAL-URL:https://www.villabertelli.it
X-WR-CALDESC:Eventi per Fondazione Villa Bertelli - Forte dei Marmi
REFRESH-INTERVAL;VALUE=DURATION:PT1H
X-Robots-Tag:noindex
X-PUBLISHED-TTL:PT1H
BEGIN:VTIMEZONE
TZID:UTC
BEGIN:STANDARD
TZOFFSETFROM:+0000
TZOFFSETTO:+0000
TZNAME:UTC
DTSTART:20230101T000000
END:STANDARD
END:VTIMEZONE
BEGIN:VEVENT
DTSTART;TZID=UTC:20230923T173000
DTEND;TZID=UTC:20230923T173000
DTSTAMP:20260422T055042
CREATED:20230915T114227Z
LAST-MODIFIED:20230915T114227Z
UID:10585-1695490200-1695490200@www.villabertelli.it
SUMMARY:8 SETTEMBRE: I SEGRETI SVELATI
DESCRIPTION:8 SETTEMBRE: I SEGRETI SVELATI\nPresentazione del libro di Paolo Ghibaudo\nIl volume\, basato sulla disponibilità della più ampia e completa biblioteca storica sull’8 settembre esistente in Italia\, svolge un’accurata indagine sugli avvenimenti di quel giorno\, partendo dalle testimonianze dei protagonisti diretti\, con un’analisi dettagliata e comparata delle fonti. \nL’obiettivo è stato quello di ricostruire in una sorta di diario minuto per minuto\, i fatti che raccontano la giornata più drammatica della 2° Guerra Mondiale. \nIngresso libero. Prenotazione 0584 787251.
URL:https://www.villabertelli.it/evento/8-settembre-i-segreti-svelati/
LOCATION:Villa Bertelli\, Via Giuseppe Mazzini 200\, Forte dei Marmi\, Italia
CATEGORIES:Banner Home,Calendario Eventi 2023
ATTACH;FMTTYPE=image/jpeg:https://www.villabertelli.it/wp-content/uploads/2023/09/ghibaudo.jpg
GEO:43.96864;10.158005
X-APPLE-STRUCTURED-LOCATION;VALUE=URI;X-ADDRESS=Villa Bertelli Via Giuseppe Mazzini 200 Forte dei Marmi Italia;X-APPLE-RADIUS=500;X-TITLE=Via Giuseppe Mazzini 200:geo:10.158005,43.96864
END:VEVENT
END:VCALENDAR